BEGIN:VCALENDAR
VERSION:2.0
PRODID:-//Plone.org//NONSGML plone.app.event//EN
X-WR-TIMEZONE:Europe/Berlin
BEGIN:VEVENT
SUMMARY:Tavola rotonda "Giornata Mondiale delle Api"
DTSTART;TZID=Europe/Berlin;VALUE=DATE-TIME:20200520T103000
DTEND;TZID=Europe/Berlin;VALUE=DATE-TIME:20200520T120000
DTSTAMP;VALUE=DATE-TIME:20260423T054601Z
UID:145be23633a04a4a8951f18166d2a63e@www.isprambiente.gov.it
CREATED;VALUE=DATE-TIME:20200518T081115Z
DESCRIPTION:Il 20 maggio si celebra la Giornata Mondiale delle Api. Istitu
 ita nel 2017 con una Risoluzione delle Nazioni Unite\, la Giornata ha l'ob
 iettivo di sensibilizzare l'opinione pubblica e i decisori politici sull'i
 mportanza di questi insetti\, fondamentali per l'equilibrio degli ecosiste
 mi e per la sicurezza alimentare della nostra e di altre specie viventi\, 
 e quindi sulla necessità di sottrarre centinaia di migliaia di specie di 
 api e altri impollinatori (che operano la fecondazione) dalla minaccia di 
 estinzione cui sono sottoposte.
LAST-MODIFIED;VALUE=DATE-TIME:20230120T133513Z
LOCATION:Videoconferenza
URL:https://www.isprambiente.gov.it/it/archivio/notizie-e-novita-normative
 /notizie-ispra/2020/05/tavola-rotonda-giornata-mondiali-delle-api-e-pubbli
 cazione-ispra-il-declino-delle-api-e-degli-impollinatori-le-risposte-alle-
 domande-piu-frequenti
END:VEVENT
BEGIN:VTIMEZONE
TZID:Europe/Berlin
X-LIC-LOCATION:Europe/Berlin
BEGIN:DAYLIGHT
DTSTART;VALUE=DATE-TIME:20200329T030000
TZNAME:CEST
TZOFFSETFROM:+0100
TZOFFSETTO:+0200
END:DAYLIGHT
END:VTIMEZONE
END:VCALENDAR
