BEGIN:VCALENDAR
VERSION:2.0
PRODID:-//Plone.org//NONSGML plone.app.event//EN
X-WR-TIMEZONE:Europe/Berlin
BEGIN:VEVENT
SUMMARY:#Cirimettiamolepinne #SUB4FAN #ART4FAN
DTSTART;TZID=Europe/Berlin;VALUE=DATE-TIME:20201030T100000
DTEND;TZID=Europe/Berlin;VALUE=DATE-TIME:20201030T130000
DTSTAMP;VALUE=DATE-TIME:20260422T202414Z
UID:1eb5903cdcc44587902753c503577065@www.isprambiente.gov.it
CREATED;VALUE=DATE-TIME:20201027T081809Z
DESCRIPTION:Workshop di aggiornamento sullo stato di salute di Pinna nobil
 is Dal 27 ottobre al 1 novembre a Trieste una mostra a cavallo tra Arte e 
 Scienza sul più grande mollusco del Mediterraneo\, ora a rischio di estin
 zione anche nel Golfo di Trieste. Oltre alla mostra\, il 30 ottobre si ter
 rà un workshop scientifico al quale parteciperanno scienziati e studiosi 
 dei principali enti che a livello locale e nazionale si stanno occupando d
 i Pinna nobilis.
LAST-MODIFIED;VALUE=DATE-TIME:20230120T133524Z
URL:https://www.isprambiente.gov.it/it/archivio/notizie-e-novita-normative
 /notizie-ispra/2020/10/cirimettiamolepinne-sub4fan-art4fan
END:VEVENT
BEGIN:VTIMEZONE
TZID:Europe/Berlin
X-LIC-LOCATION:Europe/Berlin
BEGIN:STANDARD
DTSTART;VALUE=DATE-TIME:20201025T020000
TZNAME:CET
TZOFFSETFROM:+0200
TZOFFSETTO:+0100
END:STANDARD
END:VTIMEZONE
END:VCALENDAR
