BEGIN:VCALENDAR
VERSION:2.0
PRODID:-//Plone.org//NONSGML plone.app.event//EN
X-WR-TIMEZONE:Europe/Berlin
BEGIN:VEVENT
SUMMARY:Il paesaggio come volano per lo sviluppo di una società diversa a
  vent'anni dalla Convenzione europea del Paesaggio
DTSTART;TZID=Europe/Berlin;VALUE=DATE-TIME:20201020T093000
DTEND;TZID=Europe/Berlin;VALUE=DATE-TIME:20201020T183000
DTSTAMP;VALUE=DATE-TIME:20260421T044656Z
UID:5201016f75774b14abbf75d2b1ce70f8@www.isprambiente.gov.it
CREATED;VALUE=DATE-TIME:20201015T065339Z
DESCRIPTION:L'evento a partecipazione libera vuole raccogliere\, a 20 anni
  dalla Convenzione europea del paesaggio\, le riflessioni degli esperti ne
 l settore. La Convenzione europea del Paesaggio è stata adottata dal Comi
 tato dei Ministri del Consiglio d'Europa a Strasburgo nel luglio 2000 ed 
 è stata aperta alla firma degli Stati membri a Firenze il 20 ottobre 2000
 . Obiettivi della Convenzione sono la promozione della protezione\, gestio
 ne e pianificazione dei paesaggi europei e di favorire la cooperazione eur
 opea. Essa è parte del lavoro del Consiglio d'Europa sul patrimonio cultu
 rale e naturale\, sulla pianificazione territoriale e sulla tutela dell'am
 biente.
LAST-MODIFIED;VALUE=DATE-TIME:20230120T133524Z
LOCATION:Evento on line
URL:https://www.isprambiente.gov.it/it/archivio/notizie-e-novita-normative
 /notizie-ispra/2020/10/il-paesaggio-come-volano-per-lo-sviluppo-di-una-soc
 ieta-diversa-a-ventanni-dalla-convenzione-europea-del-paesaggio
END:VEVENT
BEGIN:VTIMEZONE
TZID:Europe/Berlin
X-LIC-LOCATION:Europe/Berlin
BEGIN:DAYLIGHT
DTSTART;VALUE=DATE-TIME:20200329T030000
TZNAME:CEST
TZOFFSETFROM:+0100
TZOFFSETTO:+0200
END:DAYLIGHT
END:VTIMEZONE
END:VCALENDAR
