BEGIN:VCALENDAR
VERSION:2.0
PRODID:-//Plone.org//NONSGML plone.app.event//EN
X-WR-TIMEZONE:Europe/Berlin
BEGIN:VEVENT
SUMMARY:The Green Symposium
DTSTART;TZID=Europe/Berlin;VALUE=DATE-TIME:20201022T090000
DTEND;TZID=Europe/Berlin;VALUE=DATE-TIME:20201023T180000
DTSTAMP;VALUE=DATE-TIME:20260423T031201Z
UID:b114b944f81546f294f3548a929e2e45@www.isprambiente.gov.it
CREATED;VALUE=DATE-TIME:20200114T102030Z
DESCRIPTION:The Green Symposium 2020 è il primo tentativo di realizzare u
 n format specifico per favorire l’incontro tra le Istituzioni\, le Assoc
 iazioni di imprese\, i Consorzi e i cittadini. Un evento orientato a crear
 e momenti di discussione e confronto utili alla stesura di progetti ampiam
 ente condivisi.
LAST-MODIFIED;VALUE=DATE-TIME:20230120T133524Z
LOCATION:Evento on line
URL:https://www.isprambiente.gov.it/it/archivio/notizie-e-novita-normative
 /notizie-ispra/2020/10/the-green-symposium-napoli-2020
END:VEVENT
BEGIN:VTIMEZONE
TZID:Europe/Berlin
X-LIC-LOCATION:Europe/Berlin
BEGIN:DAYLIGHT
DTSTART;VALUE=DATE-TIME:20200329T030000
TZNAME:CEST
TZOFFSETFROM:+0100
TZOFFSETTO:+0200
END:DAYLIGHT
END:VTIMEZONE
END:VCALENDAR
