BEGIN:VCALENDAR
VERSION:2.0
PRODID:-//Plone.org//NONSGML plone.app.event//EN
X-WR-TIMEZONE:Europe/Berlin
BEGIN:VEVENT
SUMMARY:Una risorsa da non sprecare: verso una politica comune per l’int
 egrità dei fondali in Mar Mediterraneo
DTSTART;TZID=Europe/Berlin;VALUE=DATE-TIME:20201028T100000
DTEND;TZID=Europe/Berlin;VALUE=DATE-TIME:20201028T130000
DTSTAMP;VALUE=DATE-TIME:20260423T021348Z
UID:f890607569844e79908dc16198068ece@www.isprambiente.gov.it
CREATED;VALUE=DATE-TIME:20201027T131311Z
DESCRIPTION:Nell’ambito del Progetto  Harmony  si è appena concluso il 
 Forum online\, organizzato da ISPRA\, “Una risorsa da non sprecare: vers
 o una politica comune per l’integrità dei fondali in Mar Mediterraneo"\
 , che ha visto un’ampia partecipazione di partner e stakeholder per defi
 nire interventi comuni sulla valutazione dell’integrità dei fondali e d
 ella presenza delle specie invasive nell'area italo-maltese. A breve segui
 ranno altri incontri online per definire modalità di sviluppo di progetti
  in rete.
LAST-MODIFIED;VALUE=DATE-TIME:20230120T133524Z
LOCATION:Evento on line
URL:https://www.isprambiente.gov.it/it/archivio/notizie-e-novita-normative
 /notizie-ispra/2020/10/una-risorsa-da-non-sprecare-verso-una-politica-comu
 ne-per-l2019integrita-dei-fondali-in-mar-mediterraneo
END:VEVENT
BEGIN:VTIMEZONE
TZID:Europe/Berlin
X-LIC-LOCATION:Europe/Berlin
BEGIN:STANDARD
DTSTART;VALUE=DATE-TIME:20201025T020000
TZNAME:CET
TZOFFSETFROM:+0200
TZOFFSETTO:+0100
END:STANDARD
END:VTIMEZONE
END:VCALENDAR
