BEGIN:VCALENDAR
VERSION:2.0
PRODID:-//Plone.org//NONSGML plone.app.event//EN
X-WR-TIMEZONE:Europe/Berlin
BEGIN:VEVENT
SUMMARY:Progetto Harmony - “Laboratorio di Co-Design di proposte e misur
 e per il PAF Piano delle Azioni Prioritarie per Natura 2000”
DTSTART;TZID=Europe/Berlin;VALUE=DATE-TIME:20201117T110000
DTEND;TZID=Europe/Berlin;VALUE=DATE-TIME:20201117T130000
DTSTAMP;VALUE=DATE-TIME:20260423T083352Z
UID:acd12bf123f74522b520566e9fca0179@www.isprambiente.gov.it
CREATED;VALUE=DATE-TIME:20201116T142050Z
DESCRIPTION:L’iniziativa è realizzata nell'ambito del  Progetto “Harm
 ony” \, finanziato dal P.O. Italia-Malta 2014-2020\, il cui obiettivo è
  definire strategie di intervento coordinate e condivise per la valutazion
 e dell’integrità dei fondali e della presenza delle specie non indigene
  invasive nell'area italo-maltese\, attraverso la promozione di processi d
 ecisionali inclusivi di tipo partecipativo.
LAST-MODIFIED;VALUE=DATE-TIME:20230120T133524Z
LOCATION:Evento on line
URL:https://www.isprambiente.gov.it/it/archivio/notizie-e-novita-normative
 /notizie-ispra/2020/11/progetto-harmony-201claboratorio-di-co-design-di-pr
 oposte-e-misure-per-il-paf
END:VEVENT
BEGIN:VTIMEZONE
TZID:Europe/Berlin
X-LIC-LOCATION:Europe/Berlin
BEGIN:STANDARD
DTSTART;VALUE=DATE-TIME:20201025T020000
TZNAME:CET
TZOFFSETFROM:+0200
TZOFFSETTO:+0100
END:STANDARD
END:VTIMEZONE
END:VCALENDAR
