BEGIN:VCALENDAR
VERSION:2.0
PRODID:-//Plone.org//NONSGML plone.app.event//EN
X-WR-TIMEZONE:Europe/Berlin
BEGIN:VEVENT
SUMMARY:Presentazione Dossier Stop Pesticidi 2020
DTSTART;TZID=Europe/Berlin;VALUE=DATE-TIME:20201217T100000
DTEND;TZID=Europe/Berlin;VALUE=DATE-TIME:20201217T123000
DTSTAMP;VALUE=DATE-TIME:20260423T062126Z
UID:a3bfeedcf07f440ab9af1e5855d6af24@www.isprambiente.gov.it
CREATED;VALUE=DATE-TIME:20201215T140141Z
DESCRIPTION:Il 17 dicembre Legambiente presenta il Dossier s ulla presenza
  di fitofarmaci negli alimenti e sulle buone pratiche agricole.
LAST-MODIFIED;VALUE=DATE-TIME:20230120T133524Z
LOCATION:Evento on line
URL:https://www.isprambiente.gov.it/it/archivio/notizie-e-novita-normative
 /notizie-ispra/2020/12/presentazione-dossier-stop-pesticidi
END:VEVENT
BEGIN:VTIMEZONE
TZID:Europe/Berlin
X-LIC-LOCATION:Europe/Berlin
BEGIN:STANDARD
DTSTART;VALUE=DATE-TIME:20201025T020000
TZNAME:CET
TZOFFSETFROM:+0200
TZOFFSETTO:+0100
END:STANDARD
END:VTIMEZONE
END:VCALENDAR
