BEGIN:VCALENDAR
VERSION:2.0
PRODID:-//Plone.org//NONSGML plone.app.event//EN
X-WR-TIMEZONE:Europe/Berlin
BEGIN:VEVENT
SUMMARY:L’industria idrica e le sfide dell’economia circolare
DTSTART;TZID=Europe/Berlin;VALUE=DATE-TIME:20210128T110000
DTEND;TZID=Europe/Berlin;VALUE=DATE-TIME:20210128T130000
DTSTAMP;VALUE=DATE-TIME:20260423T031253Z
UID:c45f552d417e4c9cb4cdb22ebcd5a0da@www.isprambiente.gov.it
CREATED;VALUE=DATE-TIME:20210126T124430Z
DESCRIPTION:Una strategia italiana per la gestione dei fanghi di depurazio
 ne Nel webinar viene presentato lo studio sulla gestione sostenibile dei f
 anghi di depurazione realizzato in collaborazione con le associazioni e i 
 principali operatori del settore. Il rapporto esamina l’evoluzione del c
 iclo dell’acqua in Italia nell’ottica dell’economia circolare\, cons
 iderando il quadro normativo e tecnologico\, gli economics\, gli aspetti c
 hiave e le criticità nella gestione dei fanghi di depurazione. Formula\, 
 quindi\, specifiche proposte di policy atte a disegnare una strategia comp
 lessiva di gestione dei fanghi economicamente ed ambientalmente sostenibil
 e.
LAST-MODIFIED;VALUE=DATE-TIME:20230120T133439Z
LOCATION:Webinar
URL:https://www.isprambiente.gov.it/it/archivio/notizie-e-novita-normative
 /notizie-ispra/2021/01/l2019industria-idrica-e-le-sfide-dell2019economia-c
 ircolare
END:VEVENT
BEGIN:VTIMEZONE
TZID:Europe/Berlin
X-LIC-LOCATION:Europe/Berlin
BEGIN:STANDARD
DTSTART;VALUE=DATE-TIME:20201025T020000
TZNAME:CET
TZOFFSETFROM:+0200
TZOFFSETTO:+0100
END:STANDARD
END:VTIMEZONE
END:VCALENDAR
