BEGIN:VCALENDAR
VERSION:2.0
PRODID:-//Plone.org//NONSGML plone.app.event//EN
X-WR-TIMEZONE:Europe/Berlin
BEGIN:VEVENT
SUMMARY:Earth Tecnology Expo: Giornata Mondiale dell'Acqua
DTSTART;TZID=Europe/Berlin;VALUE=DATE-TIME:20210322T100000
DTEND;TZID=Europe/Berlin;VALUE=DATE-TIME:20210322T133000
DTSTAMP;VALUE=DATE-TIME:20260423T031253Z
UID:1036844cfdfe45cc84a16f12074b0071@www.isprambiente.gov.it
CREATED;VALUE=DATE-TIME:20210319T094754Z
DESCRIPTION:Quanta ne abbiamo\, come la utilizziamo\, come tutelarla nel t
 empo dei cambiamenti climatici. Tutte le tecnologie anti-inquinamento\, an
 ti-spreco\, e per la gestione sostenibile
LAST-MODIFIED;VALUE=DATE-TIME:20230120T133439Z
LOCATION:Evento online
URL:https://www.isprambiente.gov.it/it/archivio/notizie-e-novita-normative
 /notizie-ispra/2021/03/earth-tecnology-expo-giornata-mondiale-dellacqua
END:VEVENT
BEGIN:VTIMEZONE
TZID:Europe/Berlin
X-LIC-LOCATION:Europe/Berlin
BEGIN:STANDARD
DTSTART;VALUE=DATE-TIME:20201025T020000
TZNAME:CET
TZOFFSETFROM:+0200
TZOFFSETTO:+0100
END:STANDARD
END:VTIMEZONE
END:VCALENDAR
