BEGIN:VCALENDAR
VERSION:2.0
PRODID:-//Plone.org//NONSGML plone.app.event//EN
X-WR-TIMEZONE:Europe/Berlin
BEGIN:VEVENT
SUMMARY:Giornalismo ambientale
DTSTART;TZID=Europe/Berlin;VALUE=DATE-TIME:20210312T183000
DTEND;TZID=Europe/Berlin;VALUE=DATE-TIME:20210312T193000
DTSTAMP;VALUE=DATE-TIME:20260419T192600Z
UID:034e43a588f0485ab6ea94699148aa18@www.isprambiente.gov.it
CREATED;VALUE=DATE-TIME:20210218T081816Z
DESCRIPTION:Venerdi 12 marzo alle 18.30\, si terrà la videoconferenza sul
  giornalismo ambientale\, parteciperanno Stefano Laporta\,  presidente IS
 PRA\, e p. Francesco Occhetta S.I\, giornalista\, docente alla PUG\, membr
 o del Comitato scientifico ed organizzatore della 49 a  Settimana Sociale.
LAST-MODIFIED;VALUE=DATE-TIME:20230120T133439Z
LOCATION:Videoconferenza
URL:https://www.isprambiente.gov.it/it/archivio/notizie-e-novita-normative
 /notizie-ispra/2021/03/giornalismo-ambientale
END:VEVENT
BEGIN:VTIMEZONE
TZID:Europe/Berlin
X-LIC-LOCATION:Europe/Berlin
BEGIN:STANDARD
DTSTART;VALUE=DATE-TIME:20201025T020000
TZNAME:CET
TZOFFSETFROM:+0200
TZOFFSETTO:+0100
END:STANDARD
END:VTIMEZONE
END:VCALENDAR
