BEGIN:VCALENDAR
VERSION:2.0
PRODID:-//Plone.org//NONSGML plone.app.event//EN
X-WR-TIMEZONE:Europe/Berlin
BEGIN:VEVENT
SUMMARY:Giornata Mondiale dell'Acqua 2021
DTSTART;TZID=Europe/Berlin;VALUE=DATE-TIME:20210322T090000
DTEND;TZID=Europe/Berlin;VALUE=DATE-TIME:20210322T120000
DTSTAMP;VALUE=DATE-TIME:20260423T031125Z
UID:5eb695eba82c42948bfe1cba5817d421@www.isprambiente.gov.it
CREATED;VALUE=DATE-TIME:20210318T100335Z
DESCRIPTION:In occasione della Giornata Mondiale dell'Acqua\, il 22 marzo\
 , l'Istituto scolastico Spallanzani di Castelfranco Emilia (Mo) organizza 
 un webinar con l'obiettivo di porre  l'attenzione di una considerevole gam
 ma di esperti\, dai settori più diversi\, sul tema Acqua.
LAST-MODIFIED;VALUE=DATE-TIME:20230120T133439Z
LOCATION:Evento online
URL:https://www.isprambiente.gov.it/it/archivio/notizie-e-novita-normative
 /notizie-ispra/2021/03/giornata-mondiale-dellacqua-2021
END:VEVENT
BEGIN:VTIMEZONE
TZID:Europe/Berlin
X-LIC-LOCATION:Europe/Berlin
BEGIN:STANDARD
DTSTART;VALUE=DATE-TIME:20201025T020000
TZNAME:CET
TZOFFSETFROM:+0200
TZOFFSETTO:+0100
END:STANDARD
END:VTIMEZONE
END:VCALENDAR
