BEGIN:VCALENDAR
VERSION:2.0
PRODID:-//Plone.org//NONSGML plone.app.event//EN
X-WR-TIMEZONE:Europe/Berlin
BEGIN:VEVENT
SUMMARY:Il percorso di aggiornamento del Programma di Misure della Strateg
 ia Marina
DTSTART;TZID=Europe/Berlin;VALUE=DATE-TIME:20210323T143000
DTEND;TZID=Europe/Berlin;VALUE=DATE-TIME:20210323T173000
DTSTAMP;VALUE=DATE-TIME:20260419T211223Z
UID:20479d5ad17e4aa8af83ff696d107a79@www.isprambiente.gov.it
CREATED;VALUE=DATE-TIME:20210315T142645Z
DESCRIPTION:Il workshop\, organizzato dalla DG per il Mare e le Coste del 
 MiTE nell’ambito del Progetto CReIAMO PA\, costituisce l’avvio del per
 corso di aggiornamento dei Programmi di Misure della Strategia Marina.
LAST-MODIFIED;VALUE=DATE-TIME:20230120T133439Z
LOCATION:Evento online
URL:https://www.isprambiente.gov.it/it/archivio/notizie-e-novita-normative
 /notizie-ispra/2021/03/il-percorso-di-aggiornamento-del-programma-di-misur
 e-della-strategia-marina
END:VEVENT
BEGIN:VTIMEZONE
TZID:Europe/Berlin
X-LIC-LOCATION:Europe/Berlin
BEGIN:STANDARD
DTSTART;VALUE=DATE-TIME:20201025T020000
TZNAME:CET
TZOFFSETFROM:+0200
TZOFFSETTO:+0100
END:STANDARD
END:VTIMEZONE
END:VCALENDAR
