BEGIN:VCALENDAR
VERSION:2.0
PRODID:-//Plone.org//NONSGML plone.app.event//EN
X-WR-TIMEZONE:Europe/Berlin
BEGIN:VEVENT
SUMMARY:Il ruolo delle Agenzie di Protezione Ambientale alla prova del Gre
 en New Deal
DTSTART;TZID=Europe/Berlin;VALUE=DATE-TIME:20210331T163000
DTEND;TZID=Europe/Berlin;VALUE=DATE-TIME:20210331T173000
DTSTAMP;VALUE=DATE-TIME:20260419T225107Z
UID:fbd44aa316594301af378715ef8a6aec@www.isprambiente.gov.it
CREATED;VALUE=DATE-TIME:20210317T131306Z
DESCRIPTION:Il 31 marzo alle 16\,30 appuntamento in diretta streaming con 
 la prima puntata di CafèLab\, il nuovo format culturale promosso dalla SA
 FA (Scuola di Alta Formazione di Arpa Umbria) che ha l’obiettivo di crea
 re uno spazio di confronto sui temi dell’ambiente\, della sostenibilità
  e dell’economia circolare.
LAST-MODIFIED;VALUE=DATE-TIME:20230120T133439Z
LOCATION:Diretta streaming
URL:https://www.isprambiente.gov.it/it/archivio/notizie-e-novita-normative
 /notizie-ispra/2021/03/il-ruolo-delle-agenzie-di-protezione-ambientale-all
 a-prova-del-green-new-deal
END:VEVENT
BEGIN:VTIMEZONE
TZID:Europe/Berlin
X-LIC-LOCATION:Europe/Berlin
BEGIN:DAYLIGHT
DTSTART;VALUE=DATE-TIME:20210328T030000
TZNAME:CEST
TZOFFSETFROM:+0100
TZOFFSETTO:+0200
END:DAYLIGHT
END:VTIMEZONE
END:VCALENDAR
