BEGIN:VCALENDAR
VERSION:2.0
PRODID:-//Plone.org//NONSGML plone.app.event//EN
X-WR-TIMEZONE:Europe/Berlin
BEGIN:VEVENT
SUMMARY:Piano nazionale di ripresa e resilienza: audizione ISPRA in Commis
 sione Ambiente del Senato
DTSTART;TZID=Europe/Berlin;VALUE=DATE-TIME:20210309T124000
DTEND;TZID=Europe/Berlin;VALUE=DATE-TIME:20210309T133000
DTSTAMP;VALUE=DATE-TIME:20260419T211352Z
UID:02eaca009aa4418db698b4ea548cb11a@www.isprambiente.gov.it
CREATED;VALUE=DATE-TIME:20210308T133001Z
DESCRIPTION:Martedì 9 marzo alle 12.40 si terrà l'audizione in videoconf
 erenza nell'ambito dell'esame in sede consultiva del  DOC. XXVII n.18  (Pi
 ano nazionale di ripresa e resilienza).
LAST-MODIFIED;VALUE=DATE-TIME:20230120T133439Z
LOCATION:Evento online
URL:https://www.isprambiente.gov.it/it/archivio/notizie-e-novita-normative
 /notizie-ispra/2021/03/piano-nazionale-di-ripresa-e-resilienza-audizione-i
 spra-in-commissione-ambiente-del-senato
END:VEVENT
BEGIN:VTIMEZONE
TZID:Europe/Berlin
X-LIC-LOCATION:Europe/Berlin
BEGIN:STANDARD
DTSTART;VALUE=DATE-TIME:20201025T020000
TZNAME:CET
TZOFFSETFROM:+0200
TZOFFSETTO:+0100
END:STANDARD
END:VTIMEZONE
END:VCALENDAR
