BEGIN:VCALENDAR
VERSION:2.0
PRODID:-//Plone.org//NONSGML plone.app.event//EN
X-WR-TIMEZONE:Europe/Berlin
BEGIN:VEVENT
SUMMARY:“RiGenerazione Scuola”\, il Piano per la transizione ecologica
  e culturale delle scuole pensato nell’ambito dell’attuazione dell’A
 genda 2030 dell’ONU
DTSTART;TZID=Europe/Berlin;VALUE=DATE-TIME:20210604T110000
DTEND;TZID=Europe/Berlin;VALUE=DATE-TIME:20210604T120000
DTSTAMP;VALUE=DATE-TIME:20260425T224308Z
UID:5d19b61aafad4dd0a8c4ae60dd82e8d3@www.isprambiente.gov.it
CREATED;VALUE=DATE-TIME:20210603T143706Z
DESCRIPTION:Venerdì 4 giugno\, alle ore 11.00\, presso la Sala “Aldo Mo
 ro” del Ministero dell’Istruzione\, il Ministro dell’Istruzione Patr
 izio Bianchi e la Sottosegretaria Barbara Floridia presentano “RiGeneraz
 ione Scuola”\, il Piano per la transizione ecologica e culturale delle s
 cuole pensato nell’ambito dell’attuazione dell’Agenda 2030 dell’ON
 U.
LAST-MODIFIED;VALUE=DATE-TIME:20230120T133450Z
LOCATION:Evento online
URL:https://www.isprambiente.gov.it/it/archivio/notizie-e-novita-normative
 /notizie-ispra/2021/06/201crigenerazione-scuola201d-il-piano-per-la-transi
 zione-ecologica-e-culturale-delle-scuole-pensato-nell2019ambito-dell2019at
 tuazione-dell2019agenda-2030-dell2019onu
END:VEVENT
BEGIN:VTIMEZONE
TZID:Europe/Berlin
X-LIC-LOCATION:Europe/Berlin
BEGIN:DAYLIGHT
DTSTART;VALUE=DATE-TIME:20210328T030000
TZNAME:CEST
TZOFFSETFROM:+0100
TZOFFSETTO:+0200
END:DAYLIGHT
END:VTIMEZONE
END:VCALENDAR
