BEGIN:VCALENDAR
VERSION:2.0
PRODID:-//Plone.org//NONSGML plone.app.event//EN
X-WR-TIMEZONE:Europe/Berlin
BEGIN:VEVENT
SUMMARY:Camera dei Deputati: audizione dell'ISPRA su Recovery plan e decre
 to Semplificazioni
DTSTART;TZID=Europe/Berlin;VALUE=DATE-TIME:20210616T150000
DTEND;TZID=Europe/Berlin;VALUE=DATE-TIME:20210616T163000
DTSTAMP;VALUE=DATE-TIME:20260423T142340Z
UID:676cf84cd5e9464fa211b625c6ffbe16@www.isprambiente.gov.it
CREATED;VALUE=DATE-TIME:20210614T120041Z
DESCRIPTION:Mercoledì 16 giugno\, audizione in Commissione Affari costitu
 zionali e Ambiente per l'esame del decreto legge recante governance del Pi
 ano nazionale di ripresa e resilienza e prime misure di rafforzamento dell
 e strutture amministrative e di accelerazione e snellimento delle procedur
 e.
LAST-MODIFIED;VALUE=DATE-TIME:20230120T133450Z
LOCATION:Evento online
URL:https://www.isprambiente.gov.it/it/archivio/notizie-e-novita-normative
 /notizie-ispra/2021/06/audizioni-su-recovery-plan-e-decreto-semplificazion
 i
END:VEVENT
BEGIN:VTIMEZONE
TZID:Europe/Berlin
X-LIC-LOCATION:Europe/Berlin
BEGIN:DAYLIGHT
DTSTART;VALUE=DATE-TIME:20210328T030000
TZNAME:CEST
TZOFFSETFROM:+0100
TZOFFSETTO:+0200
END:DAYLIGHT
END:VTIMEZONE
END:VCALENDAR
