BEGIN:VCALENDAR
VERSION:2.0
PRODID:-//Plone.org//NONSGML plone.app.event//EN
X-WR-TIMEZONE:Europe/Berlin
BEGIN:VEVENT
SUMMARY:Conferenza GARR 2021. Sostenibile/Digitale. Dati e tecnologie per 
 il futuro
DTSTART;VALUE=DATE:20210607
DTEND;VALUE=DATE:20210617
DTSTAMP;VALUE=DATE-TIME:20260425T224314Z
UID:abfa40c7c24f42469d7488d07323ea52@www.isprambiente.gov.it
CREATED;VALUE=DATE-TIME:20210527T131634Z
DESCRIPTION:Il tema centrale dell'edizione di quest'anno è la sostenibili
 tà digitale\, ovvero sia le modalità sostenibili di sviluppo della tecno
 logia\, sia i modelli con i quali si possono utilizzare le tecnologie digi
 tali per produrre impatti ed effetti positivi su ambiente\, società ed ec
 onomia.
LAST-MODIFIED;VALUE=DATE-TIME:20230120T133450Z
LOCATION:Evento online
URL:https://www.isprambiente.gov.it/it/archivio/notizie-e-novita-normative
 /notizie-ispra/2021/06/conferenza-garr-2021-sostenibile-digitale-dati-e-te
 cnologie-per-il-futuro
END:VEVENT
END:VCALENDAR
