BEGIN:VCALENDAR
VERSION:2.0
PRODID:-//Plone.org//NONSGML plone.app.event//EN
X-WR-TIMEZONE:Europe/Berlin
BEGIN:VEVENT
SUMMARY:Giornata di studio su ecologia integrale
DTSTART;TZID=Europe/Berlin;VALUE=DATE-TIME:20210630T093000
DTEND;TZID=Europe/Berlin;VALUE=DATE-TIME:20210630T120000
DTSTAMP;VALUE=DATE-TIME:20260423T151352Z
UID:fd65489655b148ffbf501659febfe40d@www.isprambiente.gov.it
CREATED;VALUE=DATE-TIME:20210621T080017Z
DESCRIPTION:A partire dall’anno accademico 2021-2022 la Facoltà di Fil
 osofia della  Pontificia Università Antonianum  promuoverà il corso di f
 ilosofia con specializzazione in ecologia integrale.
LAST-MODIFIED;VALUE=DATE-TIME:20230120T133450Z
LOCATION:Evento online
URL:https://www.isprambiente.gov.it/it/archivio/notizie-e-novita-normative
 /notizie-ispra/2021/06/giornata-di-studio-su-ecologia-integrale
END:VEVENT
BEGIN:VTIMEZONE
TZID:Europe/Berlin
X-LIC-LOCATION:Europe/Berlin
BEGIN:DAYLIGHT
DTSTART;VALUE=DATE-TIME:20210328T030000
TZNAME:CEST
TZOFFSETFROM:+0100
TZOFFSETTO:+0200
END:DAYLIGHT
END:VTIMEZONE
END:VCALENDAR
