BEGIN:VCALENDAR
VERSION:2.0
PRODID:-//Plone.org//NONSGML plone.app.event//EN
X-WR-TIMEZONE:Europe/Berlin
BEGIN:VEVENT
SUMMARY:La ricerca spaziale ai fini del monitoraggio ambientale
DTSTART;TZID=Europe/Berlin;VALUE=DATE-TIME:20210625T143000
DTEND;TZID=Europe/Berlin;VALUE=DATE-TIME:20210625T170000
DTSTAMP;VALUE=DATE-TIME:20260423T142325Z
UID:94acad956c4a4aa5bf17c2a4180bf47b@www.isprambiente.gov.it
CREATED;VALUE=DATE-TIME:20210615T133057Z
DESCRIPTION:All4Climate – Italy 2021: Amici della Terra e Environmental 
 Defense Fund presentano la web conference sui nuovi strumenti tecnologici 
 per il monitoraggio delle emissioni di metano dallo spazio
LAST-MODIFIED;VALUE=DATE-TIME:20230120T133450Z
LOCATION:Evento online
URL:https://www.isprambiente.gov.it/it/archivio/notizie-e-novita-normative
 /notizie-ispra/2021/06/la-ricerca-spaziale-ai-fini-del-monitoraggio-ambien
 tale
END:VEVENT
BEGIN:VTIMEZONE
TZID:Europe/Berlin
X-LIC-LOCATION:Europe/Berlin
BEGIN:DAYLIGHT
DTSTART;VALUE=DATE-TIME:20210328T030000
TZNAME:CEST
TZOFFSETFROM:+0100
TZOFFSETTO:+0200
END:DAYLIGHT
END:VTIMEZONE
END:VCALENDAR
