BEGIN:VCALENDAR
VERSION:2.0
PRODID:-//Plone.org//NONSGML plone.app.event//EN
X-WR-TIMEZONE:Europe/Berlin
BEGIN:VEVENT
SUMMARY:Mangiare meglio per vivere al meglio: il cibo che salva l’ambien
 te
DTSTART;TZID=Europe/Berlin;VALUE=DATE-TIME:20210617T184500
DTEND;TZID=Europe/Berlin;VALUE=DATE-TIME:20210617T200000
DTSTAMP;VALUE=DATE-TIME:20260425T224150Z
UID:a20dfc1f0cb64f738c72092c7a701156@www.isprambiente.gov.it
CREATED;VALUE=DATE-TIME:20210608T093653Z
DESCRIPTION:Aperitivi scientifici del Progetto NET - Scienza Insieme L’A
 ntropocene\, questa era di profonde trasformazioni\, ci pone davanti a nuo
 ve sfide e necessità di cambiare paradigma e modalità di azione su ambit
 i cruciali per la nostra vita. Il cibo\, l’agricoltura sono al centro di
  numerose sfide: la popolazione mondiale è in aumento e si concentra nei 
 centri urbani mentre i cambiamenti globali e climatici alterano la capacit
 à di produrre cibo degli agroecosistemi. 
LAST-MODIFIED;VALUE=DATE-TIME:20230120T133450Z
LOCATION:Roma\, Casetta Rossa\, via Giovanni Battista Magnaghi\, 14
URL:https://www.isprambiente.gov.it/it/archivio/notizie-e-novita-normative
 /notizie-ispra/2021/06/mangiare-meglio-per-vivere-al-meglio-il-cibo-che-sa
 lva-l2019ambiente
END:VEVENT
BEGIN:VTIMEZONE
TZID:Europe/Berlin
X-LIC-LOCATION:Europe/Berlin
BEGIN:DAYLIGHT
DTSTART;VALUE=DATE-TIME:20210328T030000
TZNAME:CEST
TZOFFSETFROM:+0100
TZOFFSETTO:+0200
END:DAYLIGHT
END:VTIMEZONE
END:VCALENDAR
