BEGIN:VCALENDAR
VERSION:2.0
PRODID:-//Plone.org//NONSGML plone.app.event//EN
X-WR-TIMEZONE:Europe/Berlin
BEGIN:VEVENT
SUMMARY:MesoHabitat Simulation Model (MesoHABSIM) User Meeting
DTSTART;TZID=Europe/Berlin;VALUE=DATE-TIME:20210630T090000
DTEND;TZID=Europe/Berlin;VALUE=DATE-TIME:20210630T160000
DTSTAMP;VALUE=DATE-TIME:20260423T031105Z
UID:6b296230cf8848ec8cbb07e9c94dfaaa@www.isprambiente.gov.it
CREATED;VALUE=DATE-TIME:20210526T084643Z
DESCRIPTION:Il 30 Giugno 2021 si terrà in modalità telematica il primo
  User Meeting dedicato agli utilizzatori della metodologia MesoHabitat 
 Simulation Model (MesoHABSIM). Il meeting si propone di favorire l'intera
 zione tra i diversi utilizzatori del metodo e discutere funzionalità\, ri
 sultati ed applicazioni in differenti contesti idrologici e geomorfologici
 . Gli interessati possono intervenire al meeting con un contributo persona
 le che descriva un caso studio e/o un ambito di interesse nell'applicazion
 e della metodologia.    
LAST-MODIFIED;VALUE=DATE-TIME:20230120T133450Z
LOCATION:Evento online
URL:https://www.isprambiente.gov.it/it/archivio/notizie-e-novita-normative
 /notizie-ispra/2021/06/mesohabitat-simulation-model-mesohabsim-user-meetin
 g
END:VEVENT
BEGIN:VTIMEZONE
TZID:Europe/Berlin
X-LIC-LOCATION:Europe/Berlin
BEGIN:DAYLIGHT
DTSTART;VALUE=DATE-TIME:20210328T030000
TZNAME:CEST
TZOFFSETFROM:+0100
TZOFFSETTO:+0200
END:DAYLIGHT
END:VTIMEZONE
END:VCALENDAR
