BEGIN:VCALENDAR
VERSION:2.0
PRODID:-//Plone.org//NONSGML plone.app.event//EN
X-WR-TIMEZONE:Europe/Berlin
BEGIN:VEVENT
SUMMARY:Verdecittà a Palermo
DTSTART;TZID=Europe/Berlin;VALUE=DATE-TIME:20210625T143000
DTEND;TZID=Europe/Berlin;VALUE=DATE-TIME:20210625T170000
DTSTAMP;VALUE=DATE-TIME:20260423T003509Z
UID:427f6493940d4120a9a97e10e12d328c@www.isprambiente.gov.it
CREATED;VALUE=DATE-TIME:20210622T062412Z
DESCRIPTION:A Palermo la seconda tappa del “viaggio” attraverso l’It
 alia di Verdecittà\, il progetto innovativo che promuove il valore del ve
 rde urbano per il miglioramento della qualità della vita e le eccellenze 
 del florovivaismo Made in Italy: l’iniziativa è finanziata dal Minister
 o per le politiche alimentari e forestali (MiPAAF)\, coordinata dal CREA e
  organizzata da Padova Hall\, con il supporto tecnico-scientifico del CONA
 F. Nel capoluogo siciliano\, dal 25 al 27 giugno\, un’installazione di g
 rande effetto curata dai tecnici esperti del CONAF in piazza Castelnuovo m
 ostrerà come il verde urbano possa prestarsi a più soluzioni\, tenendo i
 nsieme qualità e bellezza degli spazi\, agricoltura\, piante aromatiche..
 .
LAST-MODIFIED;VALUE=DATE-TIME:20230120T133450Z
LOCATION:Evento online
URL:https://www.isprambiente.gov.it/it/archivio/notizie-e-novita-normative
 /notizie-ispra/2021/06/verdecitta-a-palermo
END:VEVENT
BEGIN:VTIMEZONE
TZID:Europe/Berlin
X-LIC-LOCATION:Europe/Berlin
BEGIN:DAYLIGHT
DTSTART;VALUE=DATE-TIME:20210328T030000
TZNAME:CEST
TZOFFSETFROM:+0100
TZOFFSETTO:+0200
END:DAYLIGHT
END:VTIMEZONE
END:VCALENDAR
