BEGIN:VCALENDAR
VERSION:2.0
PRODID:-//Plone.org//NONSGML plone.app.event//EN
X-WR-TIMEZONE:Europe/Berlin
BEGIN:VEVENT
SUMMARY:Conferenza Finale del Progetto GRRinPORT
DTSTART;TZID=Europe/Berlin;VALUE=DATE-TIME:20210709T090000
DTEND;TZID=Europe/Berlin;VALUE=DATE-TIME:20210709T133000
DTSTAMP;VALUE=DATE-TIME:20260424T150111Z
UID:a48d4b6b15764b78a254a20c50372578@www.isprambiente.gov.it
CREATED;VALUE=DATE-TIME:20210707T075858Z
DESCRIPTION:Durante la giornata saranno presentati i piani di azione e i r
 isultati che aiuteranno gli armatori navali\, i diportisti e i gestori del
 le strutture portuali a riposizionarsi in chiave ecosostenibile ed innovat
 iva. Avviato nell’aprile 2018\, il progetto ha visto come terreno di spe
 rimentazione i quattro porti di Cagliari\, Livorno\, Bastia ed Ajaccio.
LAST-MODIFIED;VALUE=DATE-TIME:20230120T133450Z
LOCATION:Evento online
URL:https://www.isprambiente.gov.it/it/archivio/notizie-e-novita-normative
 /notizie-ispra/2021/07/conferenza-finale-del-progetto-grrinport
END:VEVENT
BEGIN:VTIMEZONE
TZID:Europe/Berlin
X-LIC-LOCATION:Europe/Berlin
BEGIN:DAYLIGHT
DTSTART;VALUE=DATE-TIME:20210328T030000
TZNAME:CEST
TZOFFSETFROM:+0100
TZOFFSETTO:+0200
END:DAYLIGHT
END:VTIMEZONE
END:VCALENDAR
