BEGIN:VCALENDAR
VERSION:2.0
PRODID:-//Plone.org//NONSGML plone.app.event//EN
X-WR-TIMEZONE:Europe/Berlin
BEGIN:VEVENT
SUMMARY:Riscaldamento del pianeta? ma se fa freddo!: dialogo sul clima e i
  suoi cambiamenti per sfatare miti e false credenze
DTSTART;TZID=Europe/Berlin;VALUE=DATE-TIME:20210701T180000
DTEND;TZID=Europe/Berlin;VALUE=DATE-TIME:20210701T200000
DTSTAMP;VALUE=DATE-TIME:20260424T163239Z
UID:521ec9f8ad4d4ab892d9315a442d8a5c@www.isprambiente.gov.it
CREATED;VALUE=DATE-TIME:20210621T080708Z
DESCRIPTION:Le fake news sui cambiamenti climatici hanno trovato sponda ne
 ll’opinione pubblica e\, purtroppo\, a volte\, tra gli stessi politici\,
  contribuendo ad indebolire le politiche di contrasto al riscaldamento glo
 bale. Parleremo dei principali argomenti della disinformazione e delle ver
 ità scientifiche sul tema della crisi climatica e dei suoi effetti sul pi
 aneta.
LAST-MODIFIED;VALUE=DATE-TIME:20230120T133450Z
LOCATION:Roma\, Casetta Rossa\, via Giovanni Battista Magnaghi\, 14
URL:https://www.isprambiente.gov.it/it/archivio/notizie-e-novita-normative
 /notizie-ispra/2021/07/riscaldamento-del-pianeta-ma-se-fa-freddo
END:VEVENT
BEGIN:VTIMEZONE
TZID:Europe/Berlin
X-LIC-LOCATION:Europe/Berlin
BEGIN:DAYLIGHT
DTSTART;VALUE=DATE-TIME:20210328T030000
TZNAME:CEST
TZOFFSETFROM:+0100
TZOFFSETTO:+0200
END:DAYLIGHT
END:VTIMEZONE
END:VCALENDAR
