BEGIN:VCALENDAR
VERSION:2.0
PRODID:-//Plone.org//NONSGML plone.app.event//EN
X-WR-TIMEZONE:Europe/Berlin
BEGIN:VEVENT
SUMMARY:Giornate dell’Idrologia 2021
DTSTART;VALUE=DATE:20210930
DTEND;VALUE=DATE:20211002
DTSTAMP;VALUE=DATE-TIME:20260423T031105Z
UID:ef67e8d51d384788ae73e233fc987d97@www.isprambiente.gov.it
CREATED;VALUE=DATE-TIME:20210924T134904Z
DESCRIPTION:Le giornate saranno dedicate allo studio dei fenomeni idrologi
 ci in relazione alla tutela e salvaguardia del territorio. ISPRA sarà pre
 sente con due contributi orali sul bilancio idrologico nazionale e la disp
 onibilità di risorsa idrica nazionale.
LAST-MODIFIED;VALUE=DATE-TIME:20230120T133450Z
LOCATION:Napoli
URL:https://www.isprambiente.gov.it/it/archivio/notizie-e-novita-normative
 /notizie-ispra/2021/09/giornate-dell2019idrologia-2021
END:VEVENT
END:VCALENDAR
