BEGIN:VCALENDAR
VERSION:2.0
PRODID:-//Plone.org//NONSGML plone.app.event//EN
X-WR-TIMEZONE:Europe/Berlin
BEGIN:VEVENT
SUMMARY:Earth Tecnology Expo
DTSTART;VALUE=DATE:20211013
DTEND;VALUE=DATE:20211017
DTSTAMP;VALUE=DATE-TIME:20260424T182817Z
UID:111234abd9f641f198c87d2e4c83f033@www.isprambiente.gov.it
CREATED;VALUE=DATE-TIME:20210811T085225Z
DESCRIPTION:Inaugurata il 13 ottobre la manifestazione Earth Tecnology Exp
 o alla presenza del Capo della Protezione Civile\, Fabrizio Curcio e del P
 residente della Regione Toscana\, Eugenio Giani. Presenti al taglio del na
 stro il Presidente ISPRA e SNPA\, Stefano Laporta e il Direttore Generale\
 , Alessandro Bratti. Per la prima volta l’Italia mette in mostra la sua 
 straordinaria capacità di saper creare\, innovare e utilizzare tecnologie
  per migliorare la qualità della vita delle persone\, dell’ambiente e d
 elle città\, per la sorveglianza dallo spazio del territorio\, per la con
 oscenza e il controllo del sottosuolo\, suolo\, mare\, acque\, aree boscat
 e e ambienti urbani.
LAST-MODIFIED;VALUE=DATE-TIME:20230120T133501Z
LOCATION:Firenze\, Fortezza da Basso
URL:https://www.isprambiente.gov.it/it/archivio/notizie-e-novita-normative
 /notizie-ispra/2021/10/earth-tecnology-expo
END:VEVENT
END:VCALENDAR
