BEGIN:VCALENDAR
VERSION:2.0
PRODID:-//Plone.org//NONSGML plone.app.event//EN
X-WR-TIMEZONE:Europe/Berlin
BEGIN:VEVENT
SUMMARY:European Maritime Forum
DTSTART;VALUE=DATE:20211007
DTEND;VALUE=DATE:20211009
DTSTAMP;VALUE=DATE-TIME:20260423T021209Z
UID:97dbdd2d4a7846879715633e25568e48@www.isprambiente.gov.it
CREATED;VALUE=DATE-TIME:20210928T064107Z
DESCRIPTION:L’evento ha come focus centrale il grande tema della Blue Ec
 onomy\, i settori target dell’evento sono diversi e mirati\, tutti con u
 n grande potenziale di attrazione verso l’economia blu: pesca e acquacol
 tura\, turismo\, logistica e trasporti\, energie rinnovabili saranno quind
 i gli asset principali\, attraversati però da un comune processo di avvic
 inamento alla sostenibilità e alla circolarità.
LAST-MODIFIED;VALUE=DATE-TIME:20230120T133501Z
LOCATION:Evento online
URL:https://www.isprambiente.gov.it/it/archivio/notizie-e-novita-normative
 /notizie-ispra/2021/10/european-maritime-forum
END:VEVENT
END:VCALENDAR
