BEGIN:VCALENDAR
VERSION:2.0
PRODID:-//Plone.org//NONSGML plone.app.event//EN
X-WR-TIMEZONE:Europe/Berlin
BEGIN:VEVENT
SUMMARY:I Servizi del Programma Copernicus per la Gestione del Rischio di 
 Alluvioni
DTSTART;TZID=Europe/Berlin;VALUE=DATE-TIME:20211126T093000
DTEND;TZID=Europe/Berlin;VALUE=DATE-TIME:20211126T133000
DTSTAMP;VALUE=DATE-TIME:20260423T062018Z
UID:4a4d084c48b64eada8a07645f6654152@www.isprambiente.gov.it
CREATED;VALUE=DATE-TIME:20211122T131835Z
DESCRIPTION:Il workshop è organizzato nell’ambito della Linea 2 “Indi
 rizzo e coordinamento degli adempimenti connessi alla valutazione e gestio
 ne del rischio di alluvioni” del Progetto Mettiamoci in Riga. L’obiett
 ivo dell’evento è quello di presentare lo stato dell’arte nazionale s
 ui servizi di osservazione della terra e loro possibili applicazioni\, con
  particolare riguardo alla gestione del rischio di alluvione. La giornata 
 si propone come un momento di riflessione e confronto sull’opportunità 
 che le nuove tecnologie mettono a disposizione per gli adempimenti a cui l
 e Autorità di Bacino Distrettuale sono richiamate.
LAST-MODIFIED;VALUE=DATE-TIME:20230120T133501Z
LOCATION:Evento online
URL:https://www.isprambiente.gov.it/it/archivio/notizie-e-novita-normative
 /notizie-ispra/2021/11/i-servizi-del-programma-copernicus-per-la-gestione-
 del-rischio-di-alluvioni
END:VEVENT
BEGIN:VTIMEZONE
TZID:Europe/Berlin
X-LIC-LOCATION:Europe/Berlin
BEGIN:STANDARD
DTSTART;VALUE=DATE-TIME:20211031T020000
TZNAME:CET
TZOFFSETFROM:+0200
TZOFFSETTO:+0100
END:STANDARD
END:VTIMEZONE
END:VCALENDAR
