BEGIN:VCALENDAR
VERSION:2.0
PRODID:-//Plone.org//NONSGML plone.app.event//EN
X-WR-TIMEZONE:Europe/Berlin
BEGIN:VEVENT
SUMMARY:Conferenza “Emissioni inquinanti gassose di origine industriale
  - La gestione delle emissioni degli impianti industriali per la ripartenz
 a”
DTSTART;TZID=Europe/Berlin;VALUE=DATE-TIME:20211209T084500
DTEND;TZID=Europe/Berlin;VALUE=DATE-TIME:20211217T123000
DTSTAMP;VALUE=DATE-TIME:20260426T034239Z
UID:d86e8f22a6214c5a8d72a4cfca784c61@www.isprambiente.gov.it
CREATED;VALUE=DATE-TIME:20211206T084812Z
DESCRIPTION:La conferenza è organizzata da ISPRA\, in collaborazione con 
 RSE S.p.A - Ricerca sul Sistema Energetico\, ACCREDIA\, UNI ed UNICHIM. L'
 iniziativa prosegue la positiva esperienza avuta già nel 2020 e che ha re
 gistrata un’elevata partecipazione. Il programma di questa edizione si s
 volge su quattro giornate ( 9-10-16 -  17 dicembre 2021  ) con sessioni an
 timeridiane di circa 4 ore ciascuna.
LAST-MODIFIED;VALUE=DATE-TIME:20230120T133501Z
LOCATION:Conferenza webinar
URL:https://www.isprambiente.gov.it/it/archivio/notizie-e-novita-normative
 /notizie-ispra/2021/12/conferenza-201cemissioni-inquinanti-gassose-di-orig
 ine-industriale-la-gestione-delle-emissioni-degli-impianti-industriali-per
 -la-ripartenza201d
END:VEVENT
BEGIN:VTIMEZONE
TZID:Europe/Berlin
X-LIC-LOCATION:Europe/Berlin
BEGIN:STANDARD
DTSTART;VALUE=DATE-TIME:20211031T020000
TZNAME:CET
TZOFFSETFROM:+0200
TZOFFSETTO:+0100
END:STANDARD
END:VTIMEZONE
END:VCALENDAR
