BEGIN:VCALENDAR
VERSION:2.0
PRODID:-//Plone.org//NONSGML plone.app.event//EN
X-WR-TIMEZONE:Europe/Berlin
BEGIN:VEVENT
SUMMARY:Rifiuti tessili\, faro della transizione?
DTSTART;TZID=Europe/Berlin;VALUE=DATE-TIME:20211206T120000
DTEND;TZID=Europe/Berlin;VALUE=DATE-TIME:20211206T130000
DTSTAMP;VALUE=DATE-TIME:20260426T033353Z
UID:0f110107555c4b3eac947ef5efd59681@www.isprambiente.gov.it
CREATED;VALUE=DATE-TIME:20211203T071919Z
DESCRIPTION:A partire dal prossimo 1 gennaio la raccolta differenziata deg
 li abiti usati diventerà obbligatoria su tutto il territorio nazionale: s
 iamo pronti ad affrontare questa piccola rivoluzione? Quanto materiale tes
 sile riciclano i nostri distretti della moda? Saranno questi gli argomenti
  trattati il 6 dicembre durante il webinar organizzato da Ricicla TV.
LAST-MODIFIED;VALUE=DATE-TIME:20230120T133501Z
LOCATION:Evento online
URL:https://www.isprambiente.gov.it/it/archivio/notizie-e-novita-normative
 /notizie-ispra/2021/12/rifiuti-tessili-faro-della-transizione
END:VEVENT
BEGIN:VTIMEZONE
TZID:Europe/Berlin
X-LIC-LOCATION:Europe/Berlin
BEGIN:STANDARD
DTSTART;VALUE=DATE-TIME:20211031T020000
TZNAME:CET
TZOFFSETFROM:+0200
TZOFFSETTO:+0100
END:STANDARD
END:VTIMEZONE
END:VCALENDAR
