BEGIN:VCALENDAR
VERSION:2.0
PRODID:-//Plone.org//NONSGML plone.app.event//EN
X-WR-TIMEZONE:Europe/Berlin
BEGIN:VEVENT
SUMMARY:Il Sistema previsionale Idro-Meteo-Mare di ISPRA: implementazioni 
 operative in ambito ambientale\, applicazioni di ricerca e linee di svilup
 po
DTSTART;TZID=Europe/Berlin;VALUE=DATE-TIME:20220127T110000
DTEND;TZID=Europe/Berlin;VALUE=DATE-TIME:20220127T120000
DTSTAMP;VALUE=DATE-TIME:20260423T025954Z
UID:db7bfbc4b2ab42a696109bd37072e454@www.isprambiente.gov.it
CREATED;VALUE=DATE-TIME:20220125T100845Z
DESCRIPTION:Il Sistema previsionale Idro-Meteo-Mare (SIMM) divenuto operat
 ivo all’inizio del 2000\, era stato pensato con l’obiettivo di fornire
  previsioni meteorologiche e meteo-marine in un’area\, quella del Medite
 rraneo\, caratterizzata dall’interazione di diversi fenomeni operanti su
  un intervallo di scale comprese dal km alla scala sinottica.
LAST-MODIFIED;VALUE=DATE-TIME:20230120T134314Z
LOCATION:Webinar
URL:https://www.isprambiente.gov.it/it/archivio/notizie-e-novita-normative
 /notizie-ispra/2022/01/il-sistema-previsionale-idro-meteo-mare-di-ispra-im
 plementazioni-operative-in-ambito-ambientale-applicazioni-di-ricerca-e-lin
 ee-di-sviluppo
END:VEVENT
BEGIN:VTIMEZONE
TZID:Europe/Berlin
X-LIC-LOCATION:Europe/Berlin
BEGIN:STANDARD
DTSTART;VALUE=DATE-TIME:20211031T020000
TZNAME:CET
TZOFFSETFROM:+0200
TZOFFSETTO:+0100
END:STANDARD
END:VTIMEZONE
END:VCALENDAR
