BEGIN:VCALENDAR
VERSION:2.0
PRODID:-//Plone.org//NONSGML plone.app.event//EN
X-WR-TIMEZONE:Europe/Berlin
BEGIN:VEVENT
SUMMARY:Conservazione degli ecosistemi acquatici\, pianificazione del terr
 itorio e coinvolgimento: una strategia per la tutela della biodiversità
DTSTART;TZID=Europe/Berlin;VALUE=DATE-TIME:20220202T170000
DTEND;TZID=Europe/Berlin;VALUE=DATE-TIME:20220202T190000
DTSTAMP;VALUE=DATE-TIME:20260423T030718Z
UID:a6a2f09ce6b94eef85a64ffd5ec50838@www.isprambiente.gov.it
CREATED;VALUE=DATE-TIME:20220202T064558Z
DESCRIPTION:In occasione della Giornata Mondiale delle Zone umide Legambie
 nte presenta il  Report sugli Ecosistemi Acquatici con una mappa di 15 bes
 t practices \, citando una serie di progetti di successo nella gestione de
 gli ambienti umidi e degli ecosistemi acquatici in tutta la Penisola: dall
 a tutela della trota mediterranea\, al centro visite sulla lontra nel Parc
 o nazionale del Gran Paradiso\, al monitoraggio del fenicottero rosa del P
 arco nazionale del Gran Sasso\, fino al censimento in Sicilia delle zone u
 mide delle isole del Mediterraneo\, solo per citarne alcuni. 
LAST-MODIFIED;VALUE=DATE-TIME:20230120T134314Z
LOCATION:Webinar
URL:https://www.isprambiente.gov.it/it/archivio/notizie-e-novita-normative
 /notizie-ispra/2022/02/conservazione-degli-ecosistemi-acquatici-pianificaz
 ione-del-territorio-e-coinvolgimento-una-strategia-per-la-tutela-della-bio
 diversita
END:VEVENT
BEGIN:VTIMEZONE
TZID:Europe/Berlin
X-LIC-LOCATION:Europe/Berlin
BEGIN:STANDARD
DTSTART;VALUE=DATE-TIME:20211031T020000
TZNAME:CET
TZOFFSETFROM:+0200
TZOFFSETTO:+0100
END:STANDARD
END:VTIMEZONE
END:VCALENDAR
