BEGIN:VCALENDAR
VERSION:2.0
PRODID:-//Plone.org//NONSGML plone.app.event//EN
X-WR-TIMEZONE:Europe/Berlin
BEGIN:VEVENT
SUMMARY:ISPRA e il progetto Life Lagoon Refresh per la Giornata mondiale d
 elle zone umide
DTSTART;VALUE=DATE:20220202
DTEND;VALUE=DATE:20220203
DTSTAMP;VALUE=DATE-TIME:20260423T061958Z
UID:81c522f855e6454baf493cf6dd9e19cc@www.isprambiente.gov.it
CREATED;VALUE=DATE-TIME:20220126T073659Z
DESCRIPTION:Il 2 febbraio di ogni anno si celebra la  Giornata Mondiale d
 elle Zone Umide  per aumentare la consapevolezza sul ruolo importante che 
 hanno queste aree per le persone e il nostro pianeta. Le zone umide\, come
  ad esempio le lagune\, sono tra gli ambienti più produttivi del mondo\, 
 caratterizzate da una elevata diversità biologica.
LAST-MODIFIED;VALUE=DATE-TIME:20230120T134314Z
URL:https://www.isprambiente.gov.it/it/archivio/notizie-e-novita-normative
 /notizie-ispra/2022/02/giornata-mondiale-delle-zone-umide
END:VEVENT
END:VCALENDAR
