BEGIN:VCALENDAR
VERSION:2.0
PRODID:-//Plone.org//NONSGML plone.app.event//EN
X-WR-TIMEZONE:Europe/Berlin
BEGIN:VEVENT
SUMMARY:“Gli impollinatori contano\, contiamoli”
DTSTART;VALUE=DATE:20220223
DTEND;VALUE=DATE:20220224
DTSTAMP;VALUE=DATE-TIME:20260422T231337Z
UID:c2f61d1813c34220b5c5562b144d77d0@www.isprambiente.gov.it
CREATED;VALUE=DATE-TIME:20220222T125530Z
DESCRIPTION:Il progetto “Alta Murgia: un Parco per api e farfalle” pun
 ta a una migliore condizione degli impollinatori selvatici\, con intervent
 i di miglioramento ambientale e pratiche di gestione delle aree forestali 
 e agricole.   Tra gli obiettivi primari\, la realizzazione di un’app pe
 r la raccolta dati e volta alla creazione di un database unico per tutte l
 e aree protette regionali e nazionali. Lo sviluppo è coordinato da ISPRA 
 e vede il Parco dell’Alta Murgia capofila di un progetto pilota che coin
 volge l’area Tirrenico-Adriatica con i parchi dell’Appennino Lucano\, 
 Aspromonte\, Gargano\, Pollino\, Sila e Vesuvio. In fase avanzata di svilu
 ppo\, l’applicazione consentirà il rilievo in campo e la raccolta unifo
 rme dei dati\, tracciandoli e garantendone la qualità. La finalità è la
  stima degli indicatori di conservazione degli insetti e l’adozione di b
 uone pratiche per l’attuazione dei programmi di monitoraggio\, secondo i
  protocolli forniti da ISPRA.
LAST-MODIFIED;VALUE=DATE-TIME:20231211T100155Z
LOCATION:Evento online
URL:https://www.isprambiente.gov.it/it/archivio/notizie-e-novita-normative
 /notizie-ispra/2022/02/gli-impollinatori-contano-contiamoli
END:VEVENT
END:VCALENDAR
