BEGIN:VCALENDAR
VERSION:2.0
PRODID:-//Plone.org//NONSGML plone.app.event//EN
X-WR-TIMEZONE:Europe/Berlin
BEGIN:VEVENT
SUMMARY:Quarto Congresso Nazionale dell'Associazione Italiana di Scienze d
 ell'Atmosfera e Meteorologia
DTSTART;VALUE=DATE:20220215
DTEND;VALUE=DATE:20220220
DTSTAMP;VALUE=DATE-TIME:20260423T030611Z
UID:960df8e8cb85404ba3f99fccff8c8ceb@www.isprambiente.gov.it
CREATED;VALUE=DATE-TIME:20220209T095118Z
DESCRIPTION:Il Congresso si propone come un momento di incontro per la com
 unità scientifica italiana che si occupa a vario titolo di scienze dell
 ’atmosfera\, meteorologia e climatologia e si configura come occasione p
 reziosa per promuovere una riflessione su tematiche mai come ora attuali e
  urgenti.
LAST-MODIFIED;VALUE=DATE-TIME:20230120T134314Z
LOCATION:Evento online
URL:https://www.isprambiente.gov.it/it/archivio/notizie-e-novita-normative
 /notizie-ispra/2022/02/quarto-congresso-nazionale-dellassociazione-italian
 a-di-scienze-dellatmosfera-e-meteorologia
END:VEVENT
END:VCALENDAR
