BEGIN:VCALENDAR
VERSION:2.0
PRODID:-//Plone.org//NONSGML plone.app.event//EN
X-WR-TIMEZONE:Europe/Berlin
BEGIN:VEVENT
SUMMARY:SOS Siccità. Impatti. Previsioni Climatiche. Tecnologie di Monito
 ring. Gestione Emergenze. L’urgenza di Nuove Infrastrutture e di 2000 Pi
 ccoli e Medi Invasi
DTSTART;TZID=Europe/Berlin;VALUE=DATE-TIME:20220223T103000
DTEND;TZID=Europe/Berlin;VALUE=DATE-TIME:20220223T130000
DTSTAMP;VALUE=DATE-TIME:20260423T030748Z
UID:bd40f618fb2547f3b022ab23be86d562@www.isprambiente.gov.it
CREATED;VALUE=DATE-TIME:20220221T080024Z
DESCRIPTION:Il trend delle precipitazioni degli ultimi mesi è comparabile
  se non peggiore alla grande siccità subìta dal nostro Paese nel 2017. S
 e entro il mese di aprile non ci saranno precipitazioni rilevanti\, regist
 reremo un deficit considerevole di risorsa idrica. La tendenza negativa si
  registra sia sulle precipitazioni di pioggia e neve che sui dati dei live
 lli delle acque superficiali e sotterranee\, con alcuni bacini\, come quel
 lo del Po e delle isole\, in gravissimo deficit di risorsa e già in uno s
 tato di severità idrica. Che fare e come migliorare previsioni\, prevenzi
 one\, infrastrutture per far fronte ai ricorrenti stati di siccità. Quest
 o è il tema del primo incontro dei Sapiens Tecnologici\, i webinar di avv
 icinamento a Earth Technology Expo alla Fortezza da Basso di Firenze dal 5
  al 8 ottobre 2022\, coordinato da Mario Tozzi dalla Sala Zamberletti dell
 a Protezione Civile\, con la partecipazione dei massimi esperti italiani.
LAST-MODIFIED;VALUE=DATE-TIME:20230120T134314Z
LOCATION:Evento online
URL:https://www.isprambiente.gov.it/it/archivio/notizie-e-novita-normative
 /notizie-ispra/2022/02/sos-siccita-impatti-previsioni-climatiche-tecnologi
 e-di-monitoring-gestione-emergenze-l2019urgenza-di-nuove-infrastrutture-e-
 di-2000-piccoli-e-medi-invasi
END:VEVENT
BEGIN:VTIMEZONE
TZID:Europe/Berlin
X-LIC-LOCATION:Europe/Berlin
BEGIN:STANDARD
DTSTART;VALUE=DATE-TIME:20211031T020000
TZNAME:CET
TZOFFSETFROM:+0200
TZOFFSETTO:+0100
END:STANDARD
END:VTIMEZONE
END:VCALENDAR
