BEGIN:VCALENDAR
VERSION:2.0
PRODID:-//Plone.org//NONSGML plone.app.event//EN
X-WR-TIMEZONE:Europe/Berlin
BEGIN:VEVENT
SUMMARY:Giornata Mondiale dell'Acqua 2022
DTSTART;VALUE=DATE:20220322
DTEND;VALUE=DATE:20220323
DTSTAMP;VALUE=DATE-TIME:20260422T032935Z
UID:f735081da99d41458c75fae8f86bf475@www.isprambiente.gov.it
CREATED;VALUE=DATE-TIME:20220221T104736Z
DESCRIPTION:Il 22 marzo si celebra la  Giornata mondiale dell’acqua  (W
 orld Water Day)\, ricorrenza istituita dalle Nazioni Unite nel 1992 pr
 evista all'interno delle direttive dell'Agenda 21\, risultato della confe
 renza di Rio.  Il tema scelto per il 2022 è "Acque sotterranee: rendere v
 isibile l'invisibile". Le acque sotterranee sono invisibili\, ma il loro i
 mpatto è visibile ovunque. Lontano dalla vista\, sotto i nostri piedi\, l
 a falda freatica è un tesoro nascosto che arricchisce la nostra vita.
LAST-MODIFIED;VALUE=DATE-TIME:20230120T134325Z
URL:https://www.isprambiente.gov.it/it/archivio/notizie-e-novita-normative
 /notizie-ispra/2022/03/giornata-mondiale-dellacqua-2022
END:VEVENT
END:VCALENDAR
