BEGIN:VCALENDAR
VERSION:2.0
PRODID:-//Plone.org//NONSGML plone.app.event//EN
X-WR-TIMEZONE:Europe/Berlin
BEGIN:VEVENT
SUMMARY:Water unites the World. Climate Change - Reducing the deep impact 
 on water
DTSTART;TZID=Europe/Berlin;VALUE=DATE-TIME:20220322T100000
DTEND;TZID=Europe/Berlin;VALUE=DATE-TIME:20220322T130000
DTSTAMP;VALUE=DATE-TIME:20260422T034622Z
UID:87b631afb86447a8bd725bfcbc1dae78@www.isprambiente.gov.it
CREATED;VALUE=DATE-TIME:20220316T083904Z
DESCRIPTION:La gestione sostenibile e le tecnologie per contrastare gli im
 patti ambientali e climatici sulle acque   Il 22 marzo\, in occasione dell
 a Giornata mondiale dell'Acqua\, Earth Tecnology Expo organizza il webinar
  " Water unites the World. Climate Change. Reducing the deep impact on wat
 er ".
LAST-MODIFIED;VALUE=DATE-TIME:20230120T134315Z
LOCATION:Webinar
URL:https://www.isprambiente.gov.it/it/archivio/notizie-e-novita-normative
 /notizie-ispra/2022/03/water-unites-the-world-climate-change-reducing-the-
 deep-impact-on-water
END:VEVENT
BEGIN:VTIMEZONE
TZID:Europe/Berlin
X-LIC-LOCATION:Europe/Berlin
BEGIN:STANDARD
DTSTART;VALUE=DATE-TIME:20211031T020000
TZNAME:CET
TZOFFSETFROM:+0200
TZOFFSETTO:+0100
END:STANDARD
END:VTIMEZONE
END:VCALENDAR
