BEGIN:VCALENDAR
VERSION:2.0
PRODID:-//Plone.org//NONSGML plone.app.event//EN
X-WR-TIMEZONE:Europe/Berlin
BEGIN:VEVENT
SUMMARY:La tutela del suolo passa da un’agricoltura pulita
DTSTART;TZID=Europe/Berlin;VALUE=DATE-TIME:20220427T100000
DTEND;TZID=Europe/Berlin;VALUE=DATE-TIME:20220427T130000
DTSTAMP;VALUE=DATE-TIME:20260420T112900Z
UID:f321f13f1abe491fac04af71ba5e4bec@www.isprambiente.gov.it
CREATED;VALUE=DATE-TIME:20220419T071307Z
DESCRIPTION:Un quarto della biodiversità del nostro pianeta si trova nel 
 suolo. Abbiamo un tesoro sotto i piedi\, e il nostro cibo e il nostro futu
 ro dipendono da questo tesoro. Ma la salute del suolo è minacciata dall
 ’attività umana\, tra l’altro\, da un’agricoltura che non ne rispet
 ta i cicli naturali.
LAST-MODIFIED;VALUE=DATE-TIME:20230120T134325Z
LOCATION:Roma\, Arancera dell'Orto Botanico
URL:https://www.isprambiente.gov.it/it/archivio/notizie-e-novita-normative
 /notizie-ispra/2022/04/la-tutela-del-suolo-passa-da-un2019agricoltura-puli
 ta
END:VEVENT
BEGIN:VTIMEZONE
TZID:Europe/Berlin
X-LIC-LOCATION:Europe/Berlin
BEGIN:DAYLIGHT
DTSTART;VALUE=DATE-TIME:20220327T030000
TZNAME:CEST
TZOFFSETFROM:+0100
TZOFFSETTO:+0200
END:DAYLIGHT
END:VTIMEZONE
END:VCALENDAR
