BEGIN:VCALENDAR
VERSION:2.0
PRODID:-//Plone.org//NONSGML plone.app.event//EN
X-WR-TIMEZONE:Europe/Berlin
BEGIN:VEVENT
SUMMARY:Le acque sotterranee: salvaguardia e gestione adattiva della risor
 sa
DTSTART;TZID=Europe/Berlin;VALUE=DATE-TIME:20220401T143000
DTEND;TZID=Europe/Berlin;VALUE=DATE-TIME:20220401T190000
DTSTAMP;VALUE=DATE-TIME:20260423T025825Z
UID:2c36f7c06f4343f696182b31e7cf1bd8@www.isprambiente.gov.it
CREATED;VALUE=DATE-TIME:20220314T140748Z
DESCRIPTION:Il Consiglio Nazionale dei Geologi (CNG)\, la Fondazione Centr
 o Studi del CNG\, l’Ordine dei Geologi della Calabria e l’UniCal-DiBES
 T\, organizzano per il giorno 1 aprile 2022 il Convegno nazionale sul tema
  “Le acque sotterranee: salvaguardia e gestione adattiva della risorsa
 ”.
LAST-MODIFIED;VALUE=DATE-TIME:20230120T134325Z
LOCATION:Webinar
URL:https://www.isprambiente.gov.it/it/archivio/notizie-e-novita-normative
 /notizie-ispra/2022/04/le-acque-sotterranee-salvaguardia-e-gestione-adatti
 va-della-risorsa
END:VEVENT
BEGIN:VTIMEZONE
TZID:Europe/Berlin
X-LIC-LOCATION:Europe/Berlin
BEGIN:DAYLIGHT
DTSTART;VALUE=DATE-TIME:20220327T030000
TZNAME:CEST
TZOFFSETFROM:+0100
TZOFFSETTO:+0200
END:DAYLIGHT
END:VTIMEZONE
END:VCALENDAR
