BEGIN:VCALENDAR
VERSION:2.0
PRODID:-//Plone.org//NONSGML plone.app.event//EN
X-WR-TIMEZONE:Europe/Berlin
BEGIN:VEVENT
SUMMARY:Maritime Open Data & Creativity
DTSTART;TZID=Europe/Berlin;VALUE=DATE-TIME:20220420T110000
DTEND;TZID=Europe/Berlin;VALUE=DATE-TIME:20220420T130000
DTSTAMP;VALUE=DATE-TIME:20260421T233513Z
UID:cb34948149474e37b7052487fe0e0e15@www.isprambiente.gov.it
CREATED;VALUE=DATE-TIME:20220414T082049Z
DESCRIPTION:Il prossimo 20 aprile un ricercatore ISPRA parteciperà al wor
 kshop Maritime Open Data & Creativity\, organizzato nell’ambito delle ce
 lebrazioni per la Settimana Mondiale della Creatività e dell'Innovazione\
 , evento riconosciuto dalle Nazioni Unite che si tiene tra il 15 aprile\, 
 giorno di nascita di Leonardo Da Vinci e il 21 aprile\, Giornata Mondiale 
 della Creatività e dell’Innovazione.
LAST-MODIFIED;VALUE=DATE-TIME:20230120T134325Z
LOCATION:Webinar
URL:https://www.isprambiente.gov.it/it/archivio/notizie-e-novita-normative
 /notizie-ispra/2022/04/maritime-open-data-creativity
END:VEVENT
BEGIN:VTIMEZONE
TZID:Europe/Berlin
X-LIC-LOCATION:Europe/Berlin
BEGIN:DAYLIGHT
DTSTART;VALUE=DATE-TIME:20220327T030000
TZNAME:CEST
TZOFFSETFROM:+0100
TZOFFSETTO:+0200
END:DAYLIGHT
END:VTIMEZONE
END:VCALENDAR
