BEGIN:VCALENDAR
VERSION:2.0
PRODID:-//Plone.org//NONSGML plone.app.event//EN
X-WR-TIMEZONE:Europe/Berlin
BEGIN:VEVENT
SUMMARY:Monitoraggio nazionale del moscardino: dall’esperienza del Lazio
  alla proposta su scala nazionale
DTSTART;TZID=Europe/Berlin;VALUE=DATE-TIME:20220423T150000
DTEND;TZID=Europe/Berlin;VALUE=DATE-TIME:20220423T163000
DTSTAMP;VALUE=DATE-TIME:20260420T044145Z
UID:0ddd37a149264cfcb5b18b92fa7266a6@www.isprambiente.gov.it
CREATED;VALUE=DATE-TIME:20220419T055550Z
DESCRIPTION:Durante il webinar saranno presentati i protocolli adottati ed
  i risultati finora conseguiti nell'ambito della Rete di Monitoraggio del 
 Moscardino\, in corso dal 2012 nella Regione Lazio\, e con il contributo d
 ell'ISPRA si discuterà della possibile applicazione dei protocolli in alt
 re regioni d’Italia\, tenendo conto della proposta di piano nazionale di
  monitoraggio ai sensi della Direttiva Habitat.
LAST-MODIFIED;VALUE=DATE-TIME:20230120T134325Z
LOCATION:Webinar
URL:https://www.isprambiente.gov.it/it/archivio/notizie-e-novita-normative
 /notizie-ispra/2022/04/monitoraggio-nazionale-del-moscardino-dall2019esper
 ienza-del-lazio-alla-proposta-su-scala-nazionale
END:VEVENT
BEGIN:VTIMEZONE
TZID:Europe/Berlin
X-LIC-LOCATION:Europe/Berlin
BEGIN:DAYLIGHT
DTSTART;VALUE=DATE-TIME:20220327T030000
TZNAME:CEST
TZOFFSETFROM:+0100
TZOFFSETTO:+0200
END:DAYLIGHT
END:VTIMEZONE
END:VCALENDAR
