BEGIN:VCALENDAR
VERSION:2.0
PRODID:-//Plone.org//NONSGML plone.app.event//EN
X-WR-TIMEZONE:Europe/Berlin
BEGIN:VEVENT
SUMMARY:Analisi multi elementare in matrici ambientali
DTSTART;TZID=Europe/Berlin;VALUE=DATE-TIME:20220518T103000
DTEND;TZID=Europe/Berlin;VALUE=DATE-TIME:20220518T120000
DTSTAMP;VALUE=DATE-TIME:20260424T003702Z
UID:4c6f85a8975a4227a93949a4fa4d48eb@www.isprambiente.gov.it
CREATED;VALUE=DATE-TIME:20220502T110444Z
DESCRIPTION:Elementar Italia s.r.l.\, nell’ambito dell’approfondimento
  sulle tecniche di analisi multi elementare e sulla caratterizzazione dell
 a materia organica in ambienti complessi\, organizza il 18 maggio il webin
 ar “Dai sedimenti al particolato sospeso: l’analisi multi elementare c
 ome attività di routine e driver di nuove applicazioni nella caratterizza
 zione della materia organica in ambienti complessi”.
LAST-MODIFIED;VALUE=DATE-TIME:20230120T134325Z
URL:https://www.isprambiente.gov.it/it/archivio/notizie-e-novita-normative
 /notizie-ispra/2022/05/analisi-multi-elementare-in-matrici-ambientali
END:VEVENT
BEGIN:VTIMEZONE
TZID:Europe/Berlin
X-LIC-LOCATION:Europe/Berlin
BEGIN:DAYLIGHT
DTSTART;VALUE=DATE-TIME:20220327T030000
TZNAME:CEST
TZOFFSETFROM:+0100
TZOFFSETTO:+0200
END:DAYLIGHT
END:VTIMEZONE
END:VCALENDAR
