BEGIN:VCALENDAR
VERSION:2.0
PRODID:-//Plone.org//NONSGML plone.app.event//EN
X-WR-TIMEZONE:Europe/Berlin
BEGIN:VEVENT
SUMMARY:Giornata Onu per la diversità biologica. "Costruire un Futuro Con
 diviso per tutta la Vita" è il tema scelto per il 2022
DTSTART;VALUE=DATE:20220522
DTEND;VALUE=DATE:20220523
DTSTAMP;VALUE=DATE-TIME:20260424T103136Z
UID:c60cfde823fc43a0b15585e1a41b7ab9@www.isprambiente.gov.it
CREATED;VALUE=DATE-TIME:20220522T083713Z
DESCRIPTION:L'Organizzazione delle Nazioni Unite (Onu) ha proclamato il 22
  maggio la Giornata internazionale per la diversità biologica\, con l'o
 biettivo di aumentare la comprensione e la consapevolezza dell'importanza 
 della biodiversità e della necessità di arrestare e invertire il suo dec
 lino. La data è stata scelta dall'Assemblea generale dell’Onu per comme
 morare l'adozione\, il 22 maggio 1992\, del testo della Convenzione per 
 la Diversità Biologica (Convention on Biological Diversity\, in breve Cbd
 ). Lo slogan scelto quest'anno per la Giornata\, "Costruire un Futuro Cond
 iviso per tutta la Vita" ["Building a Shared Future for all Life"] ha l'in
 tento di sottolineare il valore della biodiversità e l’importanza delle
  azioni per proteggerla e ripristinarla al fine di raggiungere gli obietti
 vi dello sviluppo sostenibile e di rispondere alle maggiori sfide socio-ec
 ologiche: dalla mitigazione e l'adattamento al cambiamento climatico alla 
 soluzione dei problemi sanitari\, dalla sicurezza alimentare e idrica e al
 la fornitura di mezzi di sussistenza sostenibili. 
LAST-MODIFIED;VALUE=DATE-TIME:20230120T134326Z
URL:https://www.isprambiente.gov.it/it/archivio/notizie-e-novita-normative
 /notizie-ispra/2022/05/giornata-onu-per-la-diversita-biologica-costruire-u
 n-futuro-condiviso-per-tutta-la-vita-e-il-tema-scelto-per-il-2022
END:VEVENT
END:VCALENDAR
