BEGIN:VCALENDAR
VERSION:2.0
PRODID:-//Plone.org//NONSGML plone.app.event//EN
X-WR-TIMEZONE:Europe/Berlin
BEGIN:VEVENT
SUMMARY:Seminario per il 30esimo anniversario della Rete Natura 2000 e del
  Programma LIFE
DTSTART;TZID=Europe/Berlin;VALUE=DATE-TIME:20220509T113000
DTEND;TZID=Europe/Berlin;VALUE=DATE-TIME:20220509T130000
DTSTAMP;VALUE=DATE-TIME:20260423T025825Z
UID:8d19cb2914654aea97ac472fcc0b6ecf@www.isprambiente.gov.it
CREATED;VALUE=DATE-TIME:20220505T084650Z
DESCRIPTION:Il 2022 è un anno speciale perché si festeggia il 30esimo an
 niversario sia della Rete Natura 2000 che del Programma LIFE\, nati entram
 bi il 21 maggio 1992. Il progetto LIFE Lagoon Refresh si fa ambasciatore d
 i tale evento per celebrare il contributo del programma LIFE nella protezi
 one ambientale e nella conservazione della natura in questi trent’anni d
 i attività.
LAST-MODIFIED;VALUE=DATE-TIME:20230120T134326Z
LOCATION:Chioggia
URL:https://www.isprambiente.gov.it/it/archivio/notizie-e-novita-normative
 /notizie-ispra/2022/05/seminario-per-il-30esimo-anniversario-della-rete-na
 tura-2000-e-del-programma-life
END:VEVENT
BEGIN:VTIMEZONE
TZID:Europe/Berlin
X-LIC-LOCATION:Europe/Berlin
BEGIN:DAYLIGHT
DTSTART;VALUE=DATE-TIME:20220327T030000
TZNAME:CEST
TZOFFSETFROM:+0100
TZOFFSETTO:+0200
END:DAYLIGHT
END:VTIMEZONE
END:VCALENDAR
