BEGIN:VCALENDAR
VERSION:2.0
PRODID:-//Plone.org//NONSGML plone.app.event//EN
X-WR-TIMEZONE:Europe/Berlin
BEGIN:VEVENT
SUMMARY:Aree Marine Protette: strategie e governance\, verso la transizion
 e ecologica
DTSTART;TZID=Europe/Berlin;VALUE=DATE-TIME:20220622T100000
DTEND;TZID=Europe/Berlin;VALUE=DATE-TIME:20220622T163000
DTSTAMP;VALUE=DATE-TIME:20260420T124855Z
UID:8aa236c66cd04c699b3a383e6ce5d29c@www.isprambiente.gov.it
CREATED;VALUE=DATE-TIME:20220620T074449Z
DESCRIPTION:La giornata ha l'obiettivo di sviluppare un focus sulle prospe
 ttive delle Aree Marine Protette anche alla luce degli ambiziosi obiettivi
  europei che mirano ad avere il 30% della superficie marina protetta entro
  il 2030.
LAST-MODIFIED;VALUE=DATE-TIME:20230120T134339Z
LOCATION:Brindisi/diretta streaming
URL:https://www.isprambiente.gov.it/it/archivio/notizie-e-novita-normative
 /notizie-ispra/2022/06/aree-marine-protette-strategie-e-governance-verso-l
 a-transizione-ecologica
END:VEVENT
BEGIN:VTIMEZONE
TZID:Europe/Berlin
X-LIC-LOCATION:Europe/Berlin
BEGIN:DAYLIGHT
DTSTART;VALUE=DATE-TIME:20220327T030000
TZNAME:CEST
TZOFFSETFROM:+0100
TZOFFSETTO:+0200
END:DAYLIGHT
END:VTIMEZONE
END:VCALENDAR
