BEGIN:VCALENDAR
VERSION:2.0
PRODID:-//Plone.org//NONSGML plone.app.event//EN
X-WR-TIMEZONE:Europe/Berlin
BEGIN:VEVENT
SUMMARY:La sostenibilità delle isole minori e del turismo nelle aree cost
 iere italiane
DTSTART;VALUE=DATE:20220623
DTEND;VALUE=DATE:20220625
DTSTAMP;VALUE=DATE-TIME:20260424T220218Z
UID:49dce355b68e4cf3885c9cf4febe9bc2@www.isprambiente.gov.it
CREATED;VALUE=DATE-TIME:20220620T065042Z
DESCRIPTION:Fonti rinnovabili\, efficienza energetica\, depurazione delle 
 acque\, recupero e riciclo dei materiali: le isole minori potrebbero esser
 e il regno della sostenibilità\, territori all’avanguardia rispetto all
 a gestione delle sfide che il riscaldamento globale ci pone.  Capri sarà 
 protagonista di una due giorni internazionale in occasione di una conferen
 za promossa da Legambiente e CNR-IIA\, con Terna come sponsor e il patroci
 nio del Comune di Capri e Anacapri\, su un tema di grande attualità come 
 quello della sostenibilità delle isole minori e del turismo nelle aree co
 stiere italiane in uno scenario di cambiamenti climatici. Appuntamento il 
 23 e 24 giugno ad Anacapri\, la due giorni sarà inoltre l’occasione per
  fare il punto sulle politiche nazionali per le isole e le aree costiere\,
  sulle risorse previste dal Pnrr con il coinvolgimento di istituzioni nazi
 onali ed europee.
LAST-MODIFIED;VALUE=DATE-TIME:20230120T134339Z
LOCATION:Capri/diretta streaming
URL:https://www.isprambiente.gov.it/it/archivio/notizie-e-novita-normative
 /notizie-ispra/2022/06/la-sostenibilita-delle-isole-minori-e-del-turismo-n
 elle-aree-costiere-italiane-in-uno-scenario-di-cambiamenti-climatici
END:VEVENT
END:VCALENDAR
