BEGIN:VCALENDAR
VERSION:2.0
PRODID:-//Plone.org//NONSGML plone.app.event//EN
X-WR-TIMEZONE:Europe/Berlin
BEGIN:VEVENT
SUMMARY:Monitoraggio e biodiversità in città. Esploriamo con la Citizen 
 Science la Rete Natura 2000 a Villa Borghese Trekking e ciclo tour
DTSTART;TZID=Europe/Berlin;VALUE=DATE-TIME:20221119T100000
DTEND;TZID=Europe/Berlin;VALUE=DATE-TIME:20221119T123000
DTSTAMP;VALUE=DATE-TIME:20260420T061736Z
UID:0821bdf4af4248bea3f279b768689eb2@www.isprambiente.gov.it
CREATED;VALUE=DATE-TIME:20220922T151252Z
DESCRIPTION:Il  Network Nazionale della Biodiversità  di ISPRA è partner
  dell’edizione  2022 Urban Nature \, l’iniziativa promossa dal WWF che
  intende coinvolgere le migliori energie esistenti a livello nazionale e l
 ocale impegnate nel difendere\, promuovere\, gestire la biodiversità urba
 na. Diversi sono stati gli eventi in programma dall’8 al 9 ottobre 2022 
 (l'evento ISPRA è stato posticipato\, si terrà il 19 novembre) organizza
 ti in varie città italiane dai partner aderenti l’iniziativa - gli “ 
 Amici di Urban Nature ” – tra cui ISPRA.
LAST-MODIFIED;VALUE=DATE-TIME:20230120T133427Z
LOCATION:Roma\, Fontana del Mosè salvato dalle acque\, Villa Borghese
URL:https://www.isprambiente.gov.it/it/archivio/notizie-e-novita-normative
 /notizie-ispra/2022/11/monitoraggio-e-biodiversita-in-citta-esploriamo-con
 -la-citizen-science-la-rete-natura-2000-a-villa-borghese
END:VEVENT
BEGIN:VTIMEZONE
TZID:Europe/Berlin
X-LIC-LOCATION:Europe/Berlin
BEGIN:STANDARD
DTSTART;VALUE=DATE-TIME:20221030T020000
TZNAME:CET
TZOFFSETFROM:+0200
TZOFFSETTO:+0100
END:STANDARD
END:VTIMEZONE
END:VCALENDAR
