BEGIN:VCALENDAR
VERSION:2.0
PRODID:-//Plone.org//NONSGML plone.app.event//EN
X-WR-TIMEZONE:Europe/Berlin
BEGIN:VEVENT
SUMMARY:Biodiversità: facciamo la differenza giorno per giorno
DTSTART;TZID=Europe/Berlin;VALUE=DATE-TIME:20230124T170000
DTEND;TZID=Europe/Berlin;VALUE=DATE-TIME:20230124T183000
DTSTAMP;VALUE=DATE-TIME:20260422T050139Z
UID:9f3da109ce654a9cb9dc927fe35d7be3@www.isprambiente.gov.it
CREATED;VALUE=DATE-TIME:20230109T100721Z
DESCRIPTION:G-Lab di Fondazione Golinelli per Eduiren organizza un ciclo d
 i webinar rivolto ad insegnanti ed educatori per approfondire in chiave di
 dattica tematiche legate alla transizione ecologica e per promuovere buone
  pratiche sostenibili a partire dai piccoli e grandi gesti quotidiani.
LAST-MODIFIED;VALUE=DATE-TIME:20231227T133300Z
LOCATION:Webinar
URL:https://www.isprambiente.gov.it/it/archivio/notizie-e-novita-normative
 /notizie-ispra/2023/01/biodiversita-facciamo-la-differenza-giorno-per-gior
 no
END:VEVENT
BEGIN:VTIMEZONE
TZID:Europe/Berlin
X-LIC-LOCATION:Europe/Berlin
BEGIN:STANDARD
DTSTART;VALUE=DATE-TIME:20221030T020000
TZNAME:CET
TZOFFSETFROM:+0200
TZOFFSETTO:+0100
END:STANDARD
END:VTIMEZONE
END:VCALENDAR
