BEGIN:VCALENDAR
VERSION:2.0
PRODID:-//Plone.org//NONSGML plone.app.event//EN
X-WR-TIMEZONE:Europe/Berlin
BEGIN:VEVENT
SUMMARY:Passato\, presente e futuro: la visione integrata e attuale della 
 città di Antonio Cederna
DTSTART;TZID=Europe/Berlin;VALUE=DATE-TIME:20230119T170000
DTEND;TZID=Europe/Berlin;VALUE=DATE-TIME:20230119T190000
DTSTAMP;VALUE=DATE-TIME:20260422T045944Z
UID:48032eee302a4e7d9425eaffe3dacd48@www.isprambiente.gov.it
CREATED;VALUE=DATE-TIME:20221227T075802Z
DESCRIPTION:Il modello di sviluppo e di crescita incontrollata delle citt
 à dell’ultimo secolo appare inadeguato ad affrontare i nuovi problemi e
  le nuove sfide: dal peggioramento della qualità della vita e dell’ambi
 ente urbano\, all’avanzare della crisi climatica\, alla compromissione d
 el capitale naturale\, insieme alla crisi prolungata dello sviluppo locale
 . Alla luce di queste sfide diventa importante ripartire\, come ampiamente
  testimoniato dal pensiero di Cederna\, dal recupero e dalla valorizzazion
 e patrimonio culturale\, storico\, archeologico ma anche\, soprattutto nel
 le frange periferiche\, dal patrimonio offerto dal paesaggio naturale\, da
 lla riqualificazione ambientale di edifici.
LAST-MODIFIED;VALUE=DATE-TIME:20231227T133300Z
LOCATION:Roma\, Palazzo Valentini
URL:https://www.isprambiente.gov.it/it/archivio/notizie-e-novita-normative
 /notizie-ispra/2023/01/passato-presente-e-futuro-la-visione-integrata-e-at
 tuale-della-citta-di-antonio-cederna
END:VEVENT
BEGIN:VTIMEZONE
TZID:Europe/Berlin
X-LIC-LOCATION:Europe/Berlin
BEGIN:STANDARD
DTSTART;VALUE=DATE-TIME:20221030T020000
TZNAME:CET
TZOFFSETFROM:+0200
TZOFFSETTO:+0100
END:STANDARD
END:VTIMEZONE
END:VCALENDAR
